BEGIN:VCALENDAR
VERSION:2.0
PRODID:-//McGrathPR - ECPv6.15.20//NONSGML v1.0//EN
CALSCALE:GREGORIAN
METHOD:PUBLISH
X-ORIGINAL-URL:https://mcgrathpr.com
X-WR-CALDESC:Events for McGrathPR
REFRESH-INTERVAL;VALUE=DURATION:PT1H
X-Robots-Tag:noindex
X-PUBLISHED-TTL:PT1H
BEGIN:VTIMEZONE
TZID:America/New_York
BEGIN:DAYLIGHT
TZOFFSETFROM:-0500
TZOFFSETTO:-0400
TZNAME:EDT
DTSTART:20250309T070000
END:DAYLIGHT
BEGIN:STANDARD
TZOFFSETFROM:-0400
TZOFFSETTO:-0500
TZNAME:EST
DTSTART:20251102T060000
END:STANDARD
BEGIN:DAYLIGHT
TZOFFSETFROM:-0500
TZOFFSETTO:-0400
TZNAME:EDT
DTSTART:20260308T070000
END:DAYLIGHT
BEGIN:STANDARD
TZOFFSETFROM:-0400
TZOFFSETTO:-0500
TZNAME:EST
DTSTART:20261101T060000
END:STANDARD
BEGIN:DAYLIGHT
TZOFFSETFROM:-0500
TZOFFSETTO:-0400
TZNAME:EDT
DTSTART:20270314T070000
END:DAYLIGHT
BEGIN:STANDARD
TZOFFSETFROM:-0400
TZOFFSETTO:-0500
TZNAME:EST
DTSTART:20271107T060000
END:STANDARD
END:VTIMEZONE
BEGIN:VEVENT
DTSTART;VALUE=DATE:20260508
DTEND;VALUE=DATE:20260614
DTSTAMP:20260419T214616
CREATED:20260418T174253Z
LAST-MODIFIED:20260418T174430Z
UID:21823-1778198400-1781395199@mcgrathpr.com
SUMMARY:Exhibition: Scott Ketchum The Wild Iris: Paintings Inspired by the Poetry of Loise Gluck
DESCRIPTION:Friday\, May 8 through Saturday\, June 13 \nOpening Reception: Friday\, May 8\, 6 to 8 pm \nThe James Library & Center for the Arts\, 24 West St.\, Norwell \nAdmission is free\, exhibit on view during business hours \njameslibrary.org/tickets/scott-ketchum-the-wild-iris-paintings-inspired-by-the-poetry-of-loise-gluck \nA painting by Artist Scott Ketchum\, courtesy image\nArtist Scott Ketcham is a prolific and evolving painter with over 30 years of experience. He is a Professor of Visual Arts at Massasoit Community College\, and holds a BA from Williams College and an MFA from Johnson State College. He has been a pupil of William Schultz\, Clement Micarrelli\, Andrew McMillan\, and many others. \n  \nAbout The James Library & Center for the Arts \nHoused in a landmark 1874 Victorian building in the heart of Norwell Center\, the James Library & Center for the Arts (the James) is a non-profit cultural hub dedicated to inspiring the community through the arts. As a unique hybrid of a lending library\, a professional concert hall\, and a contemporary art gallery\, the James provides high-quality cultural experiences that are educational\, entertaining\, and enriching for all ages. \nThe James Library is located at 24 West Street\, Norwell and is open to the public Tuesday through Friday\, 1 to 5 pm\, and on Saturday\, 11 am to 1 pm. For more information\, call 781-659-7100\, visit jameslibrary.org\, or follow The James Library on Facebook and Instagram.
URL:https://mcgrathpr.com/event/exhibition-scott-ketchum-the-wild-iris-paintings-inspired-by-the-poetry-of-loise-gluck/
LOCATION:James Library & Center for the Arts\, 24 West Street\, Norwell\, MA\, United States
END:VEVENT
END:VCALENDAR