BEGIN:VCALENDAR
VERSION:2.0
PRODID:-//McGrathPR - ECPv6.15.20//NONSGML v1.0//EN
CALSCALE:GREGORIAN
METHOD:PUBLISH
X-WR-CALNAME:McGrathPR
X-ORIGINAL-URL:https://mcgrathpr.com
X-WR-CALDESC:Events for McGrathPR
REFRESH-INTERVAL;VALUE=DURATION:PT1H
X-Robots-Tag:noindex
X-PUBLISHED-TTL:PT1H
BEGIN:VTIMEZONE
TZID:America/New_York
BEGIN:DAYLIGHT
TZOFFSETFROM:-0500
TZOFFSETTO:-0400
TZNAME:EDT
DTSTART:20250309T070000
END:DAYLIGHT
BEGIN:STANDARD
TZOFFSETFROM:-0400
TZOFFSETTO:-0500
TZNAME:EST
DTSTART:20251102T060000
END:STANDARD
BEGIN:DAYLIGHT
TZOFFSETFROM:-0500
TZOFFSETTO:-0400
TZNAME:EDT
DTSTART:20260308T070000
END:DAYLIGHT
BEGIN:STANDARD
TZOFFSETFROM:-0400
TZOFFSETTO:-0500
TZNAME:EST
DTSTART:20261101T060000
END:STANDARD
BEGIN:DAYLIGHT
TZOFFSETFROM:-0500
TZOFFSETTO:-0400
TZNAME:EDT
DTSTART:20270314T070000
END:DAYLIGHT
BEGIN:STANDARD
TZOFFSETFROM:-0400
TZOFFSETTO:-0500
TZNAME:EST
DTSTART:20271107T060000
END:STANDARD
END:VTIMEZONE
BEGIN:VEVENT
DTSTART;VALUE=DATE:20260516
DTEND;VALUE=DATE:20260808
DTSTAMP:20260419T135636
CREATED:20260418T185637Z
LAST-MODIFIED:20260418T185717Z
UID:21859-1778889600-1786147199@mcgrathpr.com
SUMMARY:Sweet Harmony Summer 2026
DESCRIPTION:Sweet Harmony performs acoustic renditions of your favorite music — classic rock\, pop\, alternative\, country\, folk and Celtic tunes — brought to life with rich vocals\, rhythmic acoustic guitar\, and driving percussion. A dynamic quartet that bridges generations and styles. \n \n \nNorth River Arts Society: Festival of the Arts \nSaturday\, May 23\, 3 to 5 pm  \n157 Old Main St\, Marshfield \nAdmission is free \n  \nScituate Harbor Bandstand Series  \nThursday\, July 9\, 6 to 8 pm \nCole Parkway\, Scituate \nAdmission is free \n  \nNorwood Summerfest at Norwood Town Gazebo \nWednesday\, July 29\, 6:30 to 8:30 pm \n550 Washington Street\, Norwood \nAdmission is free \n  \nThe Galley Kitchen & Bar  \nSaturday\, May 16\, 8 to 11 pm \nSunday\, May 24\, 4 to 7 pm\nSaturday\, June 27\, 8 to 11 pm\nFriday\, July 17\, 7 to 10 pm \nFriday\, August 7\, 7 to 10 pm \n95 Front St.\, Scituate \nNo Cover Charge \n  \nThe Tinker’s Son  \nSaturday\, June 6\, 8 to 11 pm \nSaturday\, July 25\, 8 to 11 pm \n707 Main St\, Norwell\, MA \nNo cover charge \n  \nLong Bar at The Flying Bridge  \nSunday\, May 31\, 1 to 4 pm\nFriday\, June 5\, 7 to 10 pm \nFriday\, June 26\, 7 to 10 pm \nSaturday\, July 18\, 1 to 4 pm \nFriday\, July 31\, 7 to 10 pm \n220 Scranton Ave\, Falmouth \nNo cover charge \n  \nJacks Restaurant & Bar \n327 Gifford St\, Falmouth\, MA \nSaturday\, July 11\, 7:30 to 10:30 pm \nNo cover charge\n \n  \nAbout Sweet Harmony \nFounded in 2021\, Sweet Harmony is a local Scituate / Boston‑area acoustic band blending family roots\, powerful vocals\, and vibrant musicianship into a signature coastal sound. What began as a spontaneous father‑daughter duet between Caitlin and Robert Bruscino soon expanded to include vocalist Maggie Murray and percussionist Cooper Prophet\, forming a dynamic quartet that bridges generations and styles. \nPerforming throughout Massachusetts and South Florida\, Sweet Harmony seamlessly weaves Classic Rock\, Pop\, Country\, Folk\, Alternative\, and Celtic influences into every set. Their hallmark is the rich vocal interplay of Caitlin and Maggie\, paired with Robert’s rhythmic guitar and Cooper’s driving percussion—creating a sound that’s heartfelt\, polished\, and full of energy. \nEach member brings impressive musicianship to the stage: Caitlin studies Choral Music Education at the University of Florida; Maggie\, a Vocal Performance and Music Education major at UConn\, lends depth and artistry; Cooper\, a percussionist and film student at Keene State\, supplies rhythmic creativity; and Robert\, a seasoned guitarist and vocalist\, anchors the group’s sound. \nNow entering its fifth year\, Sweet Harmony continues to light up venues\, festivals\, and private events as one of the South Shore’s most genuine musical acts—celebrating friendship\, family\, and the joy of live performance.  For bookings and updates\, and to learn more about Sweet Harmony\, go to their website at SweetHarmony.music or follow them on social media at Facebook\, Instagram\, and YouTube or contact the band directly… call or text Robert at (781) 783-4232 or email at SweetHarmonyTunes@gmail.com. . \n  \nFor Sweet Harmony’s latest events calendar\, please visit tiny.cc/SweetHarmonyEvents
URL:https://mcgrathpr.com/event/sweet-harmony-2026/
END:VEVENT
END:VCALENDAR