BEGIN:VCALENDAR
VERSION:2.0
PRODID:-//McGrathPR - ECPv6.15.20//NONSGML v1.0//EN
CALSCALE:GREGORIAN
METHOD:PUBLISH
X-ORIGINAL-URL:https://mcgrathpr.com
X-WR-CALDESC:Events for McGrathPR
REFRESH-INTERVAL;VALUE=DURATION:PT1H
X-Robots-Tag:noindex
X-PUBLISHED-TTL:PT1H
BEGIN:VTIMEZONE
TZID:America/New_York
BEGIN:DAYLIGHT
TZOFFSETFROM:-0500
TZOFFSETTO:-0400
TZNAME:EDT
DTSTART:20250309T070000
END:DAYLIGHT
BEGIN:STANDARD
TZOFFSETFROM:-0400
TZOFFSETTO:-0500
TZNAME:EST
DTSTART:20251102T060000
END:STANDARD
BEGIN:DAYLIGHT
TZOFFSETFROM:-0500
TZOFFSETTO:-0400
TZNAME:EDT
DTSTART:20260308T070000
END:DAYLIGHT
BEGIN:STANDARD
TZOFFSETFROM:-0400
TZOFFSETTO:-0500
TZNAME:EST
DTSTART:20261101T060000
END:STANDARD
BEGIN:DAYLIGHT
TZOFFSETFROM:-0500
TZOFFSETTO:-0400
TZNAME:EDT
DTSTART:20270314T070000
END:DAYLIGHT
BEGIN:STANDARD
TZOFFSETFROM:-0400
TZOFFSETTO:-0500
TZNAME:EST
DTSTART:20271107T060000
END:STANDARD
END:VTIMEZONE
BEGIN:VEVENT
DTSTART;VALUE=DATE:20260529
DTEND;VALUE=DATE:20260627
DTSTAMP:20260419T170437
CREATED:20260418T174931Z
LAST-MODIFIED:20260418T174931Z
UID:21828-1780012800-1782518399@mcgrathpr.com
SUMMARY:Children's Storytime
DESCRIPTION:Fridays May 29 through June 26\, 11:30 am to 12 noon \nThe James Library & Center for the Arts\, 24 West St.\, Norwell \nAdmission is free\, no RSVP necessary \njameslibrary.org/tickets/childrens-storytime-czwyg-dkbbz-6kd9a-b7d75-hc66s-268n7-26pbs-4h2tm-3e273-2kgm5-nbdjc-9mjrk-5lbtk-7r9f7 \n  \nChildren’s Storytime is perfect for toddlers and caregivers. Explore our Children’s room and enjoy a morning of reading fun! \n  \n  \nAbout The James Library & Center for the Arts \nHoused in a landmark 1874 Victorian building in the heart of Norwell Center\, the James Library & Center for the Arts (the James) is a non-profit cultural hub dedicated to inspiring the community through the arts. As a unique hybrid of a lending library\, a professional concert hall\, and a contemporary art gallery\, the James provides high-quality cultural experiences that are educational\, entertaining\, and enriching for all ages. \nThe James Library is located at 24 West Street\, Norwell and is open to the public Tuesday through Friday\, 1 to 5 pm\, and on Saturday\, 11 am to 1 pm. For more information\, call 781-659-7100\, visit jameslibrary.org\, or follow The James Library on Facebook and Instagram.
URL:https://mcgrathpr.com/event/childrens-storytime-2/
LOCATION:James Library & Center for the Arts\, 24 West Street\, Norwell\, MA\, United States
END:VEVENT
END:VCALENDAR