BEGIN:VCALENDAR
VERSION:2.0
PRODID:-//McGrathPR - ECPv6.15.20//NONSGML v1.0//EN
CALSCALE:GREGORIAN
METHOD:PUBLISH
X-ORIGINAL-URL:https://mcgrathpr.com
X-WR-CALDESC:Events for McGrathPR
REFRESH-INTERVAL;VALUE=DURATION:PT1H
X-Robots-Tag:noindex
X-PUBLISHED-TTL:PT1H
BEGIN:VTIMEZONE
TZID:America/New_York
BEGIN:DAYLIGHT
TZOFFSETFROM:-0500
TZOFFSETTO:-0400
TZNAME:EDT
DTSTART:20250309T070000
END:DAYLIGHT
BEGIN:STANDARD
TZOFFSETFROM:-0400
TZOFFSETTO:-0500
TZNAME:EST
DTSTART:20251102T060000
END:STANDARD
BEGIN:DAYLIGHT
TZOFFSETFROM:-0500
TZOFFSETTO:-0400
TZNAME:EDT
DTSTART:20260308T070000
END:DAYLIGHT
BEGIN:STANDARD
TZOFFSETFROM:-0400
TZOFFSETTO:-0500
TZNAME:EST
DTSTART:20261101T060000
END:STANDARD
BEGIN:DAYLIGHT
TZOFFSETFROM:-0500
TZOFFSETTO:-0400
TZNAME:EDT
DTSTART:20270314T070000
END:DAYLIGHT
BEGIN:STANDARD
TZOFFSETFROM:-0400
TZOFFSETTO:-0500
TZNAME:EST
DTSTART:20271107T060000
END:STANDARD
END:VTIMEZONE
BEGIN:VEVENT
DTSTART;TZID=America/New_York:20260613T150000
DTEND;TZID=America/New_York:20260613T150000
DTSTAMP:20260420T230339
CREATED:20260418T165608Z
LAST-MODIFIED:20260418T170059Z
UID:21790-1781362800-1781362800@mcgrathpr.com
SUMMARY:When You Wish Upon a Star: A Disney Celebration
DESCRIPTION:Saturday\, June 13\, 3 pm\nSouth Shore Conservatory’s Carr Amphitheater One Conservatory Drive\, Hingham  \nTickets: Pavilion: $50; Lawn: $25; Children age nine and under attend for free\, tickets available at give.sscmusic.org/a-disney-celebration\n \n  \nThis magical afternoon of Disney favorites is brought to life by Broadway-caliber stars and a live professional pit orchestra. From beloved classics to modern favorites\, this family-friendly concert is perfect for all ages. Come ready to sing along and share the joy of Disney’s music together. \nAbout South Shore Conservatory \nSouth Shore Conservatory (SSC) is a community school for the arts on Boston’s South Shore\, welcoming individuals of all ages and abilities. With campuses in Hingham and Duxbury\, SSC’s programs provide creative opportunities for lifelong learning through outstanding faculty and nationally recognized offerings in music instruction\, ensembles\, dance\, early childhood education\, creative arts therapy\, performance\, and community and school partnerships.  Learn more at sscmusic.org.
URL:https://mcgrathpr.com/event/when-you-wish-upon-a-star-a-disney-celebration/
LOCATION:Carr Ampitheater\, One Conservatory Drive\, Hingham\, MA\, United States
END:VEVENT
END:VCALENDAR