BEGIN:VCALENDAR
VERSION:2.0
PRODID:-//McGrathPR - ECPv6.15.20//NONSGML v1.0//EN
CALSCALE:GREGORIAN
METHOD:PUBLISH
X-ORIGINAL-URL:https://mcgrathpr.com
X-WR-CALDESC:Events for McGrathPR
REFRESH-INTERVAL;VALUE=DURATION:PT1H
X-Robots-Tag:noindex
X-PUBLISHED-TTL:PT1H
BEGIN:VTIMEZONE
TZID:America/New_York
BEGIN:DAYLIGHT
TZOFFSETFROM:-0500
TZOFFSETTO:-0400
TZNAME:EDT
DTSTART:20250309T070000
END:DAYLIGHT
BEGIN:STANDARD
TZOFFSETFROM:-0400
TZOFFSETTO:-0500
TZNAME:EST
DTSTART:20251102T060000
END:STANDARD
BEGIN:DAYLIGHT
TZOFFSETFROM:-0500
TZOFFSETTO:-0400
TZNAME:EDT
DTSTART:20260308T070000
END:DAYLIGHT
BEGIN:STANDARD
TZOFFSETFROM:-0400
TZOFFSETTO:-0500
TZNAME:EST
DTSTART:20261101T060000
END:STANDARD
BEGIN:DAYLIGHT
TZOFFSETFROM:-0500
TZOFFSETTO:-0400
TZNAME:EDT
DTSTART:20270314T070000
END:DAYLIGHT
BEGIN:STANDARD
TZOFFSETFROM:-0400
TZOFFSETTO:-0500
TZNAME:EST
DTSTART:20271107T060000
END:STANDARD
END:VTIMEZONE
BEGIN:VEVENT
DTSTART;VALUE=DATE:20260709
DTEND;VALUE=DATE:20260712
DTSTAMP:20260420T015224
CREATED:20260418T184005Z
LAST-MODIFIED:20260418T184005Z
UID:21849-1783555200-1783814399@mcgrathpr.com
SUMMARY:A Chorus Line - Teen Edition
DESCRIPTION:Tickets: $37 to $44 \nThe Company Theatre\, 30 Accord Park Dr.\, Norwell \nTickets: companytheatre.com  \nThis brilliantly authentic fusion of song\, dance\, and compelling drama captures the spirit and tension of a Broadway audition. Exploring the inner lives and ambitions of Broadway hopefuls\, this Pulitzer Prize-winning musical features powerhouse numbers\, including What I Did for Love and One. This show will touch the heart of anyone who has put everything on the line – for attention\, for approval\, and for love. \nAbout The Company Theatre \nFounded in 1979 by Zoe Bradford and Jordie Saucerman\, The Company Theatre (TCT) is an award-winning regional theatre\, a true treasure of Boston’s South Shore. The destination center for the arts produces 4 musicals\, 1 play\, 5 youth productions\, and a concert and special event series annually\, attracting more than 35\,000 patrons. The Academy of Company Theatre (ACT) offers year-round technical training in voice\, acting\, dance\, film and more to both youth and adults\, and the heart of ACT – its renowned summer workshop. \nThe Company Theatre’s widely acclaimed integrity is rooted in presenting highly trained and dedicated actors\, live music performances\, lavish costuming\, elaborate set work\, as well as its outstanding educational programs. Its staff and artistic team are on a continuous quest for excellence by producing passionate\, energetic\, and professional quality performances. TCT attributes its success to its long-time dedicated staff and artisans who are proud to bring their craft to loyal patrons.\n\nThe Company Theatre’s box office is open on Mondays from 10 am to 5 pm\, Thursdays from 11 am to 6 pm\, and two hours before each performance.  For more information\, visit companytheatre.com\, email boxoffice@companytheatre.com\, call 781-871-2787\, or follow The Company Theatre on social media
URL:https://mcgrathpr.com/event/a-chorus-line-teen-edition/
LOCATION:The Company Theatre\, 30 Accord Park Dr.\, Norwell\, MA\, United States
END:VEVENT
END:VCALENDAR