BEGIN:VCALENDAR
VERSION:2.0
PRODID:-//McGrathPR - ECPv6.15.20//NONSGML v1.0//EN
CALSCALE:GREGORIAN
METHOD:PUBLISH
X-ORIGINAL-URL:https://mcgrathpr.com
X-WR-CALDESC:Events for McGrathPR
REFRESH-INTERVAL;VALUE=DURATION:PT1H
X-Robots-Tag:noindex
X-PUBLISHED-TTL:PT1H
BEGIN:VTIMEZONE
TZID:America/New_York
BEGIN:DAYLIGHT
TZOFFSETFROM:-0500
TZOFFSETTO:-0400
TZNAME:EDT
DTSTART:20250309T070000
END:DAYLIGHT
BEGIN:STANDARD
TZOFFSETFROM:-0400
TZOFFSETTO:-0500
TZNAME:EST
DTSTART:20251102T060000
END:STANDARD
BEGIN:DAYLIGHT
TZOFFSETFROM:-0500
TZOFFSETTO:-0400
TZNAME:EDT
DTSTART:20260308T070000
END:DAYLIGHT
BEGIN:STANDARD
TZOFFSETFROM:-0400
TZOFFSETTO:-0500
TZNAME:EST
DTSTART:20261101T060000
END:STANDARD
BEGIN:DAYLIGHT
TZOFFSETFROM:-0500
TZOFFSETTO:-0400
TZNAME:EDT
DTSTART:20270314T070000
END:DAYLIGHT
BEGIN:STANDARD
TZOFFSETFROM:-0400
TZOFFSETTO:-0500
TZNAME:EST
DTSTART:20271107T060000
END:STANDARD
END:VTIMEZONE
BEGIN:VEVENT
DTSTART;VALUE=DATE:20260711
DTEND;VALUE=DATE:20260726
DTSTAMP:20260419T214145
CREATED:20260418T173137Z
LAST-MODIFIED:20260418T192148Z
UID:21807-1783728000-1785023999@mcgrathpr.com
SUMMARY:Evenings Under the Stars 2026
DESCRIPTION:South Shore Conservatory’s “Evenings Under the Stars 2026” celebrates the rich traditions that have shaped our culture and imagination – bringing to life the enduring art of storytelling\, the spirit of American history\, and the beloved music of the Great American Songbook. \nHarry Potter: A Night of Symphonic Magic \nSaturday\, July 11\, 7 pm \nSouth Shore Conservatory’s Carr Amphitheater\, One Conservatory Drive\, Hingham \nTickets: Pavilion: $50; Lawn: $25; Children age nine and under attend for free\, tickets available at give.sscmusic.org/eus-harry-potter \nConductor Nick Palmer and Atlantic Symphony Orchestra musicians bring favorite stories and fairy tales to life through music in this first of three Evenings Under the Stars concerts at South Shore Conservatory.  \n“Harry Potter” films\, alongside magical favorites from “Hook\,” “E.T.\,” and classical fairy-tale masterpieces such as “Swan Lake” and “The Magic Flute.”  This immersive concert is fun for all ages. Audiences are encouraged to dress in their enchanted wizard robes to experience wonderment as SSC transforms its Hingham campus into Hogwarts.  One hour prior to the concert\, there are family-friendly activities on the grounds\, as well as food offerings available from Mom on the Go.  \n\nAmerican Landscapes:  250 Years of Song \nSaturday\, July 18\, 7 pm\nSouth Shore Conservatory’s Carr Amphitheater\, One Conservatory Drive\, Hingham \nTickets: Pavilion: $50; Lawn: $25; Children age nine and under attend for free\, tickets available at give.sscmusic.org/eus-american-landscapes \nPilgrim Festival Chorus in concert\, courtesy image\nArtistic Director Bill Richter and the Pilgrim Festival Chorus\, one of the South Shore’s premier choruses\, celebrate America’s rich musical heritage in honor of the nation’s 250th birthday in this second of three “Evenings Under the Stars” concerts at South Shore Conservatory. This powerful concert traces the soundscape of America through song – from stirring anthems to reflective works inspired by the American experience. This performance offers a moving tribute to the voices\, stories\, and landscapes that have shaped our country over the past 250 years.  \n\nSinatra Under the Stars \nSaturday\, July 25\, 7 pm\nSouth Shore Conservatory’s Carr Amphitheater\, One Conservatory Drive\, Hingham \nTickets:  Pavilion: $50; Lawn: $25; Children age nine and under attend for free\, tickets available at give.sscmusic.org/eus-sinatra \nSixteen-piece A Swingin’ Affair big band\, with Artistic Director Steve Bass and “Ol’ Blue Eyes” vocalist Donnie Norton\, rocks the Carr Amphitheater with an unforgettable night of music from the Great American Songbook\, featuring favorites from Rat Pack era crooners such as Frank Sinatra\, Bobby Darin\, and Dean Martin.  This swingin’ evening\, the final of three South Shore Conservatory “Evenings Under the Stars” concerts\, also welcomes guest vocalist Sarah Bass\, singing selections from the Ella Fitzgerald songbook.  \n  \n  \nAbout South Shore Conservatory \nSouth Shore Conservatory (SSC) is a community school for the arts on Boston’s South Shore\, welcoming individuals of all ages and abilities. With campuses in Hingham and Duxbury\, SSC’s programs provide creative opportunities for lifelong learning through outstanding faculty and nationally recognized offerings in music instruction\, ensembles\, dance\, early childhood education\, creative arts therapy\, performance\, and community and school partnerships.  Learn more at sscmusic.org.
URL:https://mcgrathpr.com/event/evenings-under-the-stars-2026/
LOCATION:Carr Ampitheater\, One Conservatory Drive\, Hingham\, MA\, United States
END:VEVENT
END:VCALENDAR