BEGIN:VCALENDAR
VERSION:2.0
PRODID:-//McGrathPR - ECPv6.15.20//NONSGML v1.0//EN
CALSCALE:GREGORIAN
METHOD:PUBLISH
X-ORIGINAL-URL:https://mcgrathpr.com
X-WR-CALDESC:Events for McGrathPR
REFRESH-INTERVAL;VALUE=DURATION:PT1H
X-Robots-Tag:noindex
X-PUBLISHED-TTL:PT1H
BEGIN:VTIMEZONE
TZID:America/New_York
BEGIN:DAYLIGHT
TZOFFSETFROM:-0500
TZOFFSETTO:-0400
TZNAME:EDT
DTSTART:20250309T070000
END:DAYLIGHT
BEGIN:STANDARD
TZOFFSETFROM:-0400
TZOFFSETTO:-0500
TZNAME:EST
DTSTART:20251102T060000
END:STANDARD
BEGIN:DAYLIGHT
TZOFFSETFROM:-0500
TZOFFSETTO:-0400
TZNAME:EDT
DTSTART:20260308T070000
END:DAYLIGHT
BEGIN:STANDARD
TZOFFSETFROM:-0400
TZOFFSETTO:-0500
TZNAME:EST
DTSTART:20261101T060000
END:STANDARD
BEGIN:DAYLIGHT
TZOFFSETFROM:-0500
TZOFFSETTO:-0400
TZNAME:EDT
DTSTART:20270314T070000
END:DAYLIGHT
BEGIN:STANDARD
TZOFFSETFROM:-0400
TZOFFSETTO:-0500
TZNAME:EST
DTSTART:20271107T060000
END:STANDARD
END:VTIMEZONE
BEGIN:VEVENT
DTSTART;VALUE=DATE:20260426
DTEND;VALUE=DATE:20260502
DTSTAMP:20260421T090436
CREATED:20260121T213329Z
LAST-MODIFIED:20260121T213329Z
UID:21411-1777161600-1777679999@mcgrathpr.com
SUMMARY:From Beethoven to Broadway
DESCRIPTION:From Beethoven to Broadway \nSunday\, April 26 2:30 pm \nWhitman Town Hall\, Whitman.\n$10 suggested donation; donations to the Whitman Food Pantry gratefully accepted \nNathaniel P. Meyer\, music director \nFriday\, May 1\, 7:30 pm \nEast Weymouth Congregational Church\, 1320 Commercial St.\, E. Weymouth\nTickets: TBA \nNathaniel P. Meyer\, music director \n  \nThe Southeastern Philharmonic Orchestra (SPO) presents its spring concert series\, “From Beethoven to Broadway\,” a program bridging classical masterworks to beloved musical theater favorites. The program includes Beethoven’s “Coriolan Overture\,” “Korngold’s Suite from The Sea Hawk\,” “Sibelius’s Finlandia\,” and selections from “West Side Story\,” “The Phantom of the Opera\,” and “The Sound of Music.” \nAbout the Southeastern Philharmonic Orchestra \nConsidered the oldest continual civic orchestra in the country\, Southeastern Philharmonic Orchestra (SPO) was founded in 1914 as the Whitman Orchestral Club.  The orchestra’s mission is to provide fun and experience for musicians and audiences of all ages and levels of accomplishment. Learn more at southeasternphil.org. 
URL:https://mcgrathpr.com/event/from-beethoven-to-broadway/
END:VEVENT
END:VCALENDAR